Workbook

Sheet language
A1: ID | B1: 英文 | C1: 简体中文 | D1: 说明 | E1: 模块
A2: key | B2: en | C2: zh-CN
A3: string | B3: string | C3: string
A4: HOME_ICON_GROCERY | B4: Store | C4: 杂货店
A5: HOME_ICON_QUEST | B5: Mission | C5: 任务
A6: HOME_BUTTON_START | B6: Start | C6: 开始旅程
A7: HOME_PAGE_ALLIANCE | B7: Clan | C7: 公会

Sheet !chs
A1: ID | B1: 名称 | C1: 说明 | D1: 模块
A2: key | B2: value
A3: string | B3: string
A4: HOME_ICON_GROCERY | B4: 杂货店 | C4: 主界面 杂货商店图标名称 | D4: 主界面
A5: HOME_ICON_QUEST | B5: 任务 | C5: 主界面 任务系统图标名称 | D5: 主界面
A6: HOME_BUTTON_START | B6: 开始旅程 | C6: 主界面主线按钮，显示“开始旅程” | D6: 主界面
A7: HOME_PAGE_ALLIANCE | B7: 公会 | C7: 主界面底部分页标签名称-公会 | D7: 主界面
A8: HOME_TIPS_LOCKINFO | B8: 系统未解锁
A9: WMAP_PLANET_NAME_1 | B9: 亚特兰蒂斯 | C9: 在世界地图选中星球后，顶部标题显示的名称 | D9: 世界地图
A10: WMAP_PLANET_NAME_2 | B10: 维多利亚 | C10: 在世界地图选中星球后，顶部标题显示的名称 | D10: 世界地图
A11: WMAP_PLANET_NAME_3 | B11: 迷宫 | C11: 在世界地图选中星球后，顶部标题显示的名称 | D11: 世界地图
A12: WMAP_PLANET_NAME_4 | B12: 卡杜修 | C12: 在世界地图选中星球后，顶部标题显示的名称 | D12: 世界地图
A13: WMAP_PLANET_NAME_5 | B13: 至高中枢 | C13: 在世界地图选中星球后，顶部标题显示的名称 | D13: 世界地图
A14: WMAP_PLANET_NAME_6 | B14: 戴安娜 | C14: 在世界地图选中星球后，顶部标题显示的名称 | D14: 世界地图
A15: WMAP_PLANET_NAME_7 | B15: 永恒花园 | C15: 在世界地图选中星球后，顶部标题显示的名称 | D15: 世界地图
A16: WMAP_PLANET_NAME_8 | B16: 议会 | C16: 在世界地图选中星球后，顶部标题显示的名称 | D16: 世界地图
A17: WMAP_PLANET_NAME_9 | B17: 冥河 | C17: 在世界地图选中星球后，顶部标题显示的名称 | D17: 世界地图
A18: WMAP_PLANET_NAME_10 | B18: 英灵殿 | C18: 在世界地图选中星球后，顶部标题显示的名称 | D18: 世界地图
A19: WMAP_PLANET_NAME_11 | B19: 泰坦 | C19: 在世界地图选中星球后，顶部标题显示的名称 | D19: 世界地图
A20: WMAP_PLANET_NAME_12 | B20: 方舟 | C20: 在世界地图选中星球后，顶部标题显示的名称 | D20: 世界地图
... A22: WMAP_BUTTON_ENTER | B22: 进入星球 | C22: 选中已解锁的星球，底部显示的“进入星球”按钮 | D22: 世界地图
A23: WMAP_ROMENUM_1 | B23: 1 | C23: 数字地图星球名称前显示的序号（程序使用，无需翻译） | D23: 世界地图
A24: WMAP_ROMENUM_2 | B24: 2 | C24: 数字地图星球名称前显示的序号（程序使用，无需翻译） | D24: 世界地图
A25: WMAP_ROMENUM_3 | B25: 3 | C25: 数字地图星球名称前显示的序号（程序使用，无需翻译） | D25: 世界地图
A26: WMAP_ROMENUM_4 | B26: 4 | C26: 数字地图星球名称前显示的序号（程序使用，无需翻译） | D26: 世界地图
A27: WMAP_ROMENUM_5 | B27: 5 | C27: 数字地图星球名称前显示的序号（程序使用，无需翻译） | D27: 世界地图
A28: WMAP_ROMENUM_6 | B28: 6 | C28: 数字地图星球名称前显示的序号（程序使用，无需翻译） | D28: 世界地图
A29: WMAP_ROMENUM_7 | B29: 7 | C29: 数字地图星球名称前显示的序号（程序使用，无需翻译） | D29: 世界地图
A30: WMAP_ROMENUM_8 | B30: 8 | C30: 数字地图星球名称前显示的序号（程序使用，无需翻译） | D30: 世界地图
A31: WMAP_ROMENUM_9 | B31: 9 | C31: 数字地图星球名称前显示的序号（程序使用，无需翻译） | D31: 世界地图
A32: WMAP_ROMENUM_10 | B32: 10 | C32: 数字地图星球名称前显示的序号（程序使用，无需翻译） | D32: 世界地图
A33: WMAP_ROMENUM_11 | B33: 11 | C33: 数字地图星球名称前显示的序号（程序使用，无需翻译） | D33: 世界地图
A34: WMAP_ROMENUM_12 | B34: 12 | C34: 数字地图星球名称前显示的序号（程序使用，无需翻译） | D34: 世界地图
A35: AREAMAP_MODE_NAME_1 | B35: 简单 | C35: 简单模式名称 | D35: 区域地图
A36: AREAMAP_MODE_NAME_2 | B36: 困难 | C36: 困难模式名称 | D36: 区域地图
A37: AREAMAP_MODE_NAME_3 | B37: 地狱 | C37: 地狱模式名称 | D37: 区域地图
A38: AREAMAP_MODE_NAME_4 | B38: 所有难度 | C38: 用于任务描述读取参数 | D38: 区域地图
A39: AREAMAP_TIPS_TITLE | B39: 解锁条件 | C39: 解锁框标题 | D39: 区域地图
A40: AREAMAP_UNLOCK_9001 | B40: 通关{0}{1}模式{2}关 | C40: 关卡解锁条件提示 {0}取星球名称key {1}取难度模式key {2}取地图配置中关卡的展示id | D40: 区域地图
A41: AREAMAP_UNLOCK_9002 | B41: 完成{0}主线关卡{1} | C41: 任务解锁条件提示 {0}取星球名称key {1}任务名称key | D41: 区域地图
...

Sheet !en
A1: ID | B1: 名称 | D1: 说明 | E1: 模块
A2: key | B2: value
A3: string | B3: string
A4: HOME_ICON_GROCERY | B4: Store | C4: 杂货店
A5: HOME_ICON_QUEST | B5: Mission | C5: 任务
A6: HOME_BUTTON_START | B6: Start | C6: 开始旅程
A7: HOME_PAGE_ALLIANCE | B7: Clan | C7: 公会
A8: HOME_TIPS_LOCKINFO | B8: The module is locked! | C8: 系统未解锁
A9: WMAP_TITLE_MAPNAME | B9: Celestial Map | C9: 星际地图 | E9: 世界地图
A10: WMAP_PLANET_NAME_1 | B10: Pisces Dominion | C10: 双鱼水星
A11: WMAP_PLANET_NAME_2 | B11: Aries Planetoid | C11: 白羊工业星
A12: WMAP_PLANET_NAME_3 | B12: Taurus Tartarus | C12: 金牛迷宫星
A13: WMAP_PLANET_NAME_4 | B13: Republic of Gemini | C13: 双子共和国
A14: WMAP_PLANET_NAME_5 | B14: Cancer Babylonia | C14: 巨蟹巴比伦
A15: WMAP_PLANET_NAME_6 | B15: Leo Savana | C15: 狮子大草原 | E15: 英雄描述
A16: WMAP_PLANET_NAME_7 | B16: Virgo Fairyland | C16: 处女仙境 | E16: 英雄描述
A17: WMAP_PLANET_NAME_8 | B17: Sphere of Libra | C17: 天秤观测体 | E17: 英雄描述
A18: WMAP_PLANET_NAME_9 | B18: Scorpio Cluster | C18: 天蝎星团 | E18: 英雄描述
A19: WMAP_PLANET_NAME_10 | B19: Sagittarius Satellite | C19: 射手卫星 | E19: 英雄描述
A20: WMAP_PLANET_NAME_11 | B20: Capricorn Crystalline | C20: 摩羯晶星 | E20: 英雄描述
A21: WMAP_PLANET_NAME_12 | B21: Arc of Aquarius | C21: 水瓶方舟 | E21: 英雄描述
A22: WMAP_TIPS_UNLOCK | B22: Complete the last planet to unlock | C22: 完成前一个星球解锁 | E22: 英雄描述
A23: WMAP_BUTTON_ENTER | B23: Enter | C23: 进入星球 | E23: 英雄描述
A24: WMAP_ROMENUM_1 | B24: 1 | C24: 1 | E24: 怪物名字
A25: WMAP_ROMENUM_2 | B25: 2 | C25: 2 | E25: 怪物名字
A26: WMAP_ROMENUM_3 | B26: 3 | C26: 3 | E26: 怪物名字
A27: WMAP_ROMENUM_4 | B27: 4 | C27: 4 | E27: 怪物名字
A28: WMAP_ROMENUM_5 | B28: 5 | C28: 5 | E28: 怪物名字
A29: WMAP_ROMENUM_6 | B29: 6 | C29: 6 | E29: 怪物名字
A30: WMAP_ROMENUM_7 | B30: 7 | C30: 7 | E30: 怪物名字
A31: WMAP_ROMENUM_8 | B31: 8 | C31: 8 | E31: 怪物名字
A32: WMAP_ROMENUM_9 | B32: 9 | C32: 9 | E32: 怪物名字
A33: WMAP_ROMENUM_10 | B33: 10 | C33: 10 | E33: 怪物名字
A34: WMAP_ROMENUM_11 | B34: 11 | C34: 11 | E34: BOSS描述
A35: WMAP_ROMENUM_12 | B35: 12 | C35: 12 | E35: BOSS描述
A36: AREAMAP_MODE_NAME_1 | B36: Easy | C36: 简单 | E36: BOSS描述
A37: AREAMAP_MODE_NAME_2 | B37: Hard | C37: 困难 | E37: 任务
A38: AREAMAP_MODE_NAME_3 | B38: Hell | C38: 地狱 | E38: 任务
A39: AREAMAP_MODE_NAME_4 | B39: All Difficulty | C39: 所有难度 | E39: 任务
A40: AREAMAP_TIPS_TITLE | B40: Unlock Condition | C40: 解锁条件 | E40: 任务
...

Sheet !Sheet1
B1: 翻译表UI页签内容 | F1: 翻译表缺失部分检查
A2: LOGIN_NEWGAME | B2: New Game | C2: 开始新游戏 | F2: {=LOOKUP(1,0/(A2='!en'!A:A),'!en'!B:B)} -> New Game
A3: LOGIN_ACCOUNTLOGIN | B3: Login | C3: 账号登录 | F3: {=LOOKUP(1,0/(A3='!en'!A:A),'!en'!B:B)} -> Login
A4: LOGIN_ACCOUT_TITLE | B4: Platform Login | C4: 平台登录 | F4: {=LOOKUP(1,0/(A4='!en'!A:A),'!en'!B:B)} -> Platform Login
A5: LOGIN_ACCOUT_DESC | B5: Log in with your favorite platform to not only save your progress but also enable you to log in and play on other devices as well! | C5: 使用账号,以保存您的游戏进度，账号在其他设备上可随时继续游戏 | F5: {=LOOKUP(1,0/(A5='!en'!A:A),'!en'!B:B)} -> Log in with your favorite platform to not only save your progress but also enable you to log in and play on other devices as well!
A6: LOGIN_ACCOUT_USEGOOGLE | B6: Log in with Google | C6: 使用Google登录 | F6: {=LOOKUP(1,0/(A6='!en'!A:A),'!en'!B:B)} -> Log in with Google
A7: LOGIN_ACCOUT_USEFACEBOOK | B7: Log in with Facebook | C7: 使用Facebook登录 | F7: {=LOOKUP(1,0/(A7='!en'!A:A),'!en'!B:B)} -> Log in with Facebook
A8: LOGIN_LOADACCOUNT_TITLE | B8: Load Account | C8: 同步数据 | F8: {=LOOKUP(1,0/(A8='!en'!A:A),'!en'!B:B)} -> Load Account
A9: LOGIN_LOADACCOUNT_DESC | B9: Do you want to load the account of, {0} (ID: {1}) | C9: 您的账号已包含一个名为{0}的游戏账号(ID:{1})，加载后，本地游戏进度将丢失。 | F9: {=LOOKUP(1,0/(A9='!en'!A:A),'!en'!B:B)} -> Do you want to load the account of, {0} (ID: {1}) Note: current local progress on this device will be lost once loaded and switched.
A10: LOGIN_SUSPEND_DESC | B10: The account, {0} (ID: {1}) is under suspension, the progress will be permanently deleted at, {2}. Click Recover to re-login and recover the account. | C10: 您登录的名为{0}的游戏账(ID:{1})已被停用，此账号将于{2}正式删除，点击“恢复账号”重新登录游戏，可恢复账号 | F10: {=LOOKUP(1,0/(A10='!en'!A:A),'!en'!B:B)} -> The account, {0} (ID: {1}) is under suspension, the progress will be permanently deleted at, {2}. Click Recover to re-login and recover the account.
A11: LOGIN_LOADACCOUNT_CANCEL | B11: Cancel | C11: 取消 | F11: {=LOOKUP(1,0/(A11='!en'!A:A),'!en'!B:B)} -> Cancel
A12: LOGIN_LOADACCOUNT_LOAD | B12: Load | C12: 加载 | F12: {=LOOKUP(1,0/(A12='!en'!A:A),'!en'!B:B)} -> Load
A13: LOGIN_SUSPEND_TITLE | B13: Account Suspended | C13: 账号已停用 | F13: {=LOOKUP(1,0/(A13='!en'!A:A),'!en'!B:B)} -> Account Suspended
... A108: AREAMAP_LEVELSHOW_11208 | B108: Lane-2 | C108: 小路-2 | F108: {=LOOKUP(1,0/(A108='!en'!A:A),'!en'!B:B)} -> Lane-2
A109: AREAMAP_LEVELSHOW_21108 | B109: Factory-1 | C109: 工厂-1 | F109: {=LOOKUP(1,0/(A109='!en'!A:A),'!en'!B:B)} -> Factory-1 | G109: !
A110: AREAMAP_LEVELSHOW_21110 | B110: Factory-2 | C110: 工厂-2 | F110: {=LOOKUP(1,0/(A110='!en'!A:A),'!en'!B:B)} -> Factory-2
A111: AREAMAP_LEVELSHOW_21112 | B111: Factory-3 | C111: 工厂-3 | F111: {=LOOKUP(1,0/(A111='!en'!A:A),'!en'!B:B)} -> Factory-3
A112: AREAMAP_LEVELSHOW_21114 | B112: Factory-4 | C112: 工厂-4 | F112: {=LOOKUP(1,0/(A112='!en'!A:A),'!en'!B:B)} -> Factory-4
A113: AREAMAP_LEVELSHOW_21107 | B113: Mine-1 | C113: 矿场-1 | F113: {=LOOKUP(1,0/(A113='!en'!A:A),'!en'!B:B)} -> Mine-1
A114: AREAMAP_LEVELSHOW_21109 | B114: Mine-2 | C114: 矿场-2 | F114: {=LOOKUP(1,0/(A114='!en'!A:A),'!en'!B:B)} -> Mine-2
A115: AREAMAP_LEVELSHOW_21111 | B115: Mine-3 | C115: 矿场-3 | F115: {=LOOKUP(1,0/(A115='!en'!A:A),'!en'!B:B)} -> Mine-3
A116: AREAMAP_LEVELSHOW_21113 | B116: Mine-4 | C116: 矿场-4 | F116: {=LOOKUP(1,0/(A116='!en'!A:A),'!en'!B:B)} -> Mine-4
A117: AREAMAP_LEVELSHOW_21115 | B117: Mine-5 | C117: 矿场-5 | F117: {=LOOKUP(1,0/(A117='!en'!A:A),'!en'!B:B)} -> Mine-5
A118: AREAMAP_LEVELSHOW_21116 | B118: Mine-6 | C118: 矿场-6 | F118: {=LOOKUP(1,0/(A118='!en'!A:A),'!en'!B:B)} -> Mine-6
A119: AREAMAP_LEVELSHOW_21201 | B119: Sub-A | C119: 下城区-A | F119: {=LOOKUP(1,0/(A119='!en'!A:A),'!en'!B:B)} -> Sub-A
A120: AREAMAP_LEVELSHOW_21202 | B120: Sub-B | C120: 下城区-B | F120: {=LOOKUP(1,0/(A120='!en'!A:A),'!en'!B:B)} -> Sub-B
A121: AREAMAP_LEVELSHOW_21203 | B121: Sub-C | C121: 下城区-C | F121: {=LOOKUP(1,0/(A121='!en'!A:A),'!en'!B:B)} -> Sub-C
... A338: MATCHLAND_HOWTOPLAY_CONT | B338: 1.The Mystery Land is open regularly every week. | C338: 1.秘境玩法将周期性开启，每周循环 | F338: {=LOOKUP(1,0/(A338='!en'!A:A),'!en'!B:B)} -> 1.The Mystery Land is open regularly every week. 2.During the opening period, the number of challenges will be limited. 3. After passing the level,you can get generous rewards. 4.After passing the last level, you can repeat the last level and continue to get rewards.
B339: 2.During the opening period, the number of challenges will be limited. | C339: 2.玩法开放期间，限定挑战次数
B340: 3. After passing the level,you can get a generous reward | C340: 3.不同类型的玩法，通关后获得不同的资源
B341: 4.After passing the last level, you can repeat the last level and continue to get rewards. | C341: 4.通关玩法的最后一关后，可重复挑战最后一关并继续获得奖励
A344: DRAW_DAILY_NAME | B344: Call of Common | C344: 普通召唤 | F344: {=LOOKUP(1,0/(A344='!en'!A:A),'!en'!B:B)} -> Great Summoner
A345: DRAW_COLOIR_NAME | B345: Call of Senior | C345: 高级召唤 | F345: {=LOOKUP(1,0/(A345='!en'!A:A),'!en'!B:B)} -> Celestial Summoner
A346: DRAW_BUTTON_ONE | B346: Draw 1 | C346: 召唤1次 | F346: {=LOOKUP(1,0/(A346='!en'!A:A),'!en'!B:B)} -> Draw 1
A347: DRAW_BUTTON_TEN | B347: Draw 10 | C347: 召唤10次 | F347: {=LOOKUP(1,0/(A347='!en'!A:A),'!en'!B:B)} -> Draw 10
B348: FREE | C348: 免费
A349: DRAW_TYPE1_DES | B349: Heroes and Items | C349: 英雄和道具 | F349: {=LOOKUP(1,0/(A349='!en'!A:A),'!en'!B:B)} -> Heroes and Items
A350: DRAW_TYPE2_DES | B350: Draw 10 must [color=#ffdf863,#fccb34][size=40]5 star[/size][/color] | C350: 10连必出 [color=#ffdf863,#fccb34][size=40]5星[/size][/color]英雄 | F350: {=LOOKUP(1,0/(A350='!en'!A:A),'!en'!B:B)} -> 5-Star heroes waiting for you!
A351: DRAW_AGGTITTLE | B351: Summon Reward | C351: 累计召唤奖励 | F351: {=LOOKUP(1,0/(A351='!en'!A:A),'!en'!B:B)} -> Summon Rewards
A352: DRAW_AGGTITTLE2 | B352: Rules | C352: 规则说明 | F352: {=LOOKUP(1,0/(A352='!en'!A:A),'!en'!B:B)} -> Rules
...

Sheet !多语言表模板
A1: key | B1: English | C1: ChineseSimplified | D1: 拓展语言1 | E1: 拓展语言2 | F1: 拓展语言3 | G1: module | H1: des
A2: HOME_ICON_STORE | B2: Shop | C2: 商店 | G2: 主界面 | H2: 主界面 内购商店图标名称
A3: HOME_ICON_GROCERY | B3: Store | C3: 杂货店 | G3: 主界面 | H3: 主界面 杂货商店图标名称
